
BEGIN:VCALENDAR
VERSION:2.0
PRODID:-//新刊古書 | 本町文化堂 | 和歌山 - ECPv6.15.11//NONSGML v1.0//EN
CALSCALE:GREGORIAN
METHOD:PUBLISH
X-ORIGINAL-URL:https://www.books-plug.com
X-WR-CALDESC:新刊古書 | 本町文化堂 | 和歌山 のイベント
REFRESH-INTERVAL;VALUE=DURATION:PT1H
X-Robots-Tag:noindex
X-PUBLISHED-TTL:PT1H
BEGIN:VTIMEZONE
TZID:Asia/Tokyo
BEGIN:STANDARD
TZOFFSETFROM:+0900
TZOFFSETTO:+0900
TZNAME:JST
DTSTART:20240101T000000
END:STANDARD
END:VTIMEZONE
BEGIN:VEVENT
DTSTART;TZID=Asia/Tokyo:20251128T120000
DTEND;TZID=Asia/Tokyo:20251202T180000
DTSTAMP:20260421T122346
CREATED:20251119T051109Z
LAST-MODIFIED:20251119T051648Z
UID:1237-1764331200-1764698400@www.books-plug.com
SUMMARY:佐ノ川谷藍子 器展
DESCRIPTION:本町文化堂２階イベントスペースにて　佐ノ川谷藍子 器展　を開催します。 新作を中心に約200点を展示即売します。 昨年開催時に好評だった本棚皿（2025ver.）もお楽しみに！ \n\n\n\n\n\n\n\n\n\n\n\n\n\n【開催日時】2025年11月28日（金）～12月2日（火）12:00-18:00【場所】本町文化堂（和歌山市本町３丁目６）２階イベントスペース 入場無料　お支払いは現金でお願いいたします。 \n佐ノ川谷 藍子（さのがわや あいこ）　instagram2003 大阪芸術大学美術学科卒業　在学中に作陶をはじめる2009「佐ノ川谷藍子骨壺展」（大阪府立弥生文化博物館）
URL:https://www.books-plug.com/event/1237/
LOCATION:本町文化堂\, 本町3-6\, 和歌山市\, 和歌山県\, 6408033\, Japan
CATEGORIES:ポップアップショップ
ATTACH;FMTTYPE=image/png:https://www.books-plug.com/wp-content/uploads/2025/11/251128_i.png
END:VEVENT
END:VCALENDAR