
BEGIN:VCALENDAR
VERSION:2.0
PRODID:-//新刊古書 | 本町文化堂 | 和歌山 - ECPv6.15.11//NONSGML v1.0//EN
CALSCALE:GREGORIAN
METHOD:PUBLISH
X-ORIGINAL-URL:https://www.books-plug.com
X-WR-CALDESC:新刊古書 | 本町文化堂 | 和歌山 のイベント
REFRESH-INTERVAL;VALUE=DURATION:PT1H
X-Robots-Tag:noindex
X-PUBLISHED-TTL:PT1H
BEGIN:VTIMEZONE
TZID:Asia/Tokyo
BEGIN:STANDARD
TZOFFSETFROM:+0900
TZOFFSETTO:+0900
TZNAME:JST
DTSTART:20250101T000000
END:STANDARD
END:VTIMEZONE
BEGIN:VEVENT
DTSTART;VALUE=DATE:20260329
DTEND;VALUE=DATE:20260330
DTSTAMP:20260420T042520
CREATED:20260302T105058Z
LAST-MODIFIED:20260327T100255Z
UID:1364-1774742400-1774828799@www.books-plug.com
SUMMARY:音楽と無声映画vol.11 -戦艦ポチョムキン-
DESCRIPTION:『戦艦ポチョムキン』（1925年・ソ連　監督：セルゲイ・エイゼンシュテイン　上映時間：71分） \n\n\n\n\n\n\n\n1920年代後半のトーキー（発声映画）の登場まで、映画のフィルムには音がありませんでした。その頃の映画を、現代では「サイレント映画（無声映画）」と呼びますが、しかし、当時の映画館が決してサイレント＝静かだったわけではありません。楽士という専門の音楽家が、ピアノを中心とした楽器の生演奏で、スクリーンに映しだされる映像に、音楽の彩をそえていました。 そうした、当時の劇場の雰囲気を再現するのが、本町文化堂連続イベント『音楽と無声映画』です。 \n\n\n\n\n\n第11回目となる今回もおなじみ、映画音楽専門のプロ楽士である鳥飼りょうさんをお招きし、ピアノでの生伴奏とともに、天才映像作家の”革命賛歌”『戦艦ポチョムキン』を上映いたします。お楽しみください。 エイゼンシュテインが27才で撮った、彼の代表作にしてサイレント時代の最高傑作という呼び名の高い作品。オデーサの階段を乳母車が転げ落ちていくシーンは、のちにブライアン・デ・パルマ監督が自作『アンタッチャブル』でオマージュを捧げています。 ※13:00～と16:30～2回公演。（予約制）     \n［ものがたり］ 1905年夏。黒海沖の巡洋艦ポチョムキン号に乗船する水兵たちは、非人間的な命令を強いる上官に対して反乱を起こしオデーサの港へ寄港するが、やがて軍隊が押し寄せ大虐殺が繰り広げられる…。 \n監督：セルゲイ・エイゼンシュテイン出演：アレクサンドル・アントノフ　ウラジミル・バルスキー　グレゴリー・アレクサンドロフ \n\n\nピアノ　鳥飼りょう（楽士） ▼プロフィール （無声映画振興会 HP より） ▼出演予定\n\n\n\n\nおかげ様で、各回は満席となりました。キャンセル待ちの予約は、メール : btcc.wakayama@gmail.comへご連絡ください。 \n日時■　3/29（日） ①13:00～　②16:30～　上映後に解説トークあり 料金■　一般 2\,500 円（当日受付時に現金でお支払いください） お問合せ・ご予約■ 　下記申込フォーム、各SNSのDM、店頭、にて予約承ります。※TEL（073-488-4775）での受付は当店営業時間内に限ります。
URL:https://www.books-plug.com/event/260329/
LOCATION:本町文化堂\, 本町3-6\, 和歌山市\, 和歌山県\, 6408033\, Japan
CATEGORIES:映画上映,無声映画
ATTACH;FMTTYPE=image/png:https://www.books-plug.com/wp-content/uploads/2026/03/260329.png
END:VEVENT
END:VCALENDAR