
BEGIN:VCALENDAR
VERSION:2.0
PRODID:-//新刊古書 | 本町文化堂 | 和歌山 - ECPv6.15.11//NONSGML v1.0//EN
CALSCALE:GREGORIAN
METHOD:PUBLISH
X-ORIGINAL-URL:https://www.books-plug.com
X-WR-CALDESC:新刊古書 | 本町文化堂 | 和歌山 のイベント
REFRESH-INTERVAL;VALUE=DURATION:PT1H
X-Robots-Tag:noindex
X-PUBLISHED-TTL:PT1H
BEGIN:VTIMEZONE
TZID:Asia/Tokyo
BEGIN:STANDARD
TZOFFSETFROM:+0900
TZOFFSETTO:+0900
TZNAME:JST
DTSTART:20250101T000000
END:STANDARD
END:VTIMEZONE
BEGIN:VEVENT
DTSTART;TZID=Asia/Tokyo:20260228T183000
DTEND;TZID=Asia/Tokyo:20260228T200000
DTSTAMP:20260420T151725
CREATED:20260214T080524Z
LAST-MODIFIED:20260214T080633Z
UID:1356-1772303400-1772308800@www.books-plug.com
SUMMARY:和歌山城石垣散歩
DESCRIPTION:2月28日(土)に、学芸員で和歌山城の石垣を研究する大山僚介さんのトーク・イベントを開催します！ \n城が築かれた豊臣時代から江戸時代にかけての石を積む技術の変化に、二度の焼失を経た城の変遷、戦禍の記憶など、和歌山城の石垣への解像度がグッと高まること請け合い！ \n\n日時 ■ 2/28（土）18:30 ～20:00 \n場所 ■ 本町文化堂 2 階（和歌山市本町 3丁目 6） \n料金 ■ 1\,000円（当日受付時に現金にてお支払いください） \n問合せ・ご予約 ■ 下記申込フォーム、各SNSのDM、店頭、にて予約承ります。 TEL（073-488-4775）での受付は当店営業時間内に限ります。 \n\n  \n\n\n\n お名前 (必須)\n \n \n メールアドレス (必須)\n \n \n 電話番号 (必須)\n\n \n 予約人数\n名 \n \n ゲストへの質問やメッセージ
URL:https://www.books-plug.com/event/260228/
LOCATION:本町文化堂\, 本町3-6\, 和歌山市\, 和歌山県\, 6408033\, Japan
CATEGORIES:トーク
ATTACH;FMTTYPE=image/png:https://www.books-plug.com/wp-content/uploads/2026/02/260228.png
END:VEVENT
END:VCALENDAR