
BEGIN:VCALENDAR
VERSION:2.0
PRODID:-//新刊古書 | 本町文化堂 | 和歌山 - ECPv6.15.11//NONSGML v1.0//EN
CALSCALE:GREGORIAN
METHOD:PUBLISH
X-WR-CALNAME:新刊古書 | 本町文化堂 | 和歌山
X-ORIGINAL-URL:https://www.books-plug.com
X-WR-CALDESC:新刊古書 | 本町文化堂 | 和歌山 のイベント
REFRESH-INTERVAL;VALUE=DURATION:PT1H
X-Robots-Tag:noindex
X-PUBLISHED-TTL:PT1H
BEGIN:VTIMEZONE
TZID:Asia/Tokyo
BEGIN:STANDARD
TZOFFSETFROM:+0900
TZOFFSETTO:+0900
TZNAME:JST
DTSTART:20250101T000000
END:STANDARD
END:VTIMEZONE
BEGIN:VEVENT
DTSTART;TZID=Asia/Tokyo:20260418T190000
DTEND;TZID=Asia/Tokyo:20260418T203000
DTSTAMP:20260421T053738
CREATED:20260412T041600Z
LAST-MODIFIED:20260412T041606Z
UID:1412-1776538800-1776544200@www.books-plug.com
SUMMARY:異国祭１００倍お楽しみトーク・イベント
DESCRIPTION:ソンクラーン直前企画『異国飯１００倍お楽しみマニュアル ご近所で世界に出会う本』（星海社新書）の著者の山谷剛史さんをお招きし、異国祭１００倍お楽しみトーク・イベントを開催します。 \nタイ仏教の年に一度のお祭り「ソンクラーン」。そのソンクラーンが4/19（日）、和歌山山中のタイ寺で開催されることに便乗するカルチャー・トークイベントです。前日の4/18（土）に、日本で食べられる海外の味＝異国飯ライターの山谷剛史さんをゲストに迎え、山谷さんが体験してきた日本の中の海外の祭＝「異国祭」について、お話を伺います！（聞き手：本町文化堂 嶋田） \n和歌山山中のタイ寺についての記述もある『異国飯１００倍お楽しみマニュアル　ご近所で世界に出会う本』(税込定価 1\,540円）は、本町文化堂にて好評販売中。 \n【ゲストプロフィール】\n山谷剛史（やまや・たけし）\nアジアITライター。1976年東京都出身。東京電機大学卒。システムエンジニアを経て、中国やアジアを専門とするITライターとなる。現地の消費者に近い目線でのレポートを得意とし、バックパッカー並の予算でアジア各国を飛び回る日々を送っている。「文春オンライン」「ASCII」「engadget」などを中心に多数の連載を持ち、単著に『中国のインターネット史 ワールドワイドウェブからの独立』『移民時代の異国飯』（いずれも星海社新書）などがある。Xアカウント@YamayaT \n\n日時 ■ 4/18（土）19:00～20:30 \n場所 ■ 本町文化堂 2 階（和歌山市本町 3丁目 6） \n料金 ■ 1\,000円（当日現金にてお支払いください） \n問合せ・ご予約 ■ 下記申込フォーム、各SNSのDM、店頭、にて予約承ります。 TEL（073-488-4775）での受付は当店営業時間内に限ります。\n\n\n  \n\n\n\n お名前 (必須)\n \n \n メールアドレス (必須)\n \n \n 電話番号 (必須)\n\n \n 予約人数\n名 \n \n ゲストへの質問やメッセージ
URL:https://www.books-plug.com/event/260418/
LOCATION:本町文化堂\, 本町3-6\, 和歌山市\, 和歌山県\, 6408033\, Japan
CATEGORIES:トーク
ATTACH;FMTTYPE=image/png:https://www.books-plug.com/wp-content/uploads/2026/04/260418_i.png
END:VEVENT
BEGIN:VEVENT
DTSTART;VALUE=DATE:20260524
DTEND;VALUE=DATE:20260525
DTSTAMP:20260421T053738
CREATED:20260331T054528Z
LAST-MODIFIED:20260331T082855Z
UID:1395-1779580800-1779667199@www.books-plug.com
SUMMARY:音楽と無声映画vo.12 -カメラを持った男-
DESCRIPTION:『カメラを持った男』（1929年・ソ連　監督：セジガ・ヴェルトフ　上映時間：101分） \n\n\n\n\n\n\n\n1920年代後半のトーキー（発声映画）の登場まで、映画のフィルムには音がありませんでした。その頃の映画を、現代では「サイレント映画（無声映画）」と呼びますが、しかし、当時の映画館が決してサイレント＝静かだったわけではありません。楽士という専門の音楽家が、ピアノを中心とした楽器の生演奏で、スクリーンに映しだされる映像に、音楽の彩をそえていました。 そうした、当時の劇場の雰囲気を再現するのが、本町文化堂連続イベント『音楽と無声映画』です。 \n\n\n\n\n\n第12回目となる今回もおなじみ、映画音楽専門のプロ楽士である鳥飼りょうさんをお招きし、ピアノでの生伴奏とともに、ソ連ドキュメンタリー映画『カメラを持った男』を上映いたします。お楽しみください。 ロシアのある一日を、当時の画期的な最先端の特殊撮影技法を用いて撮影した「実験的ドキュメンタリー映画」の金字塔。超絶的なモンタージュ技巧を駆使した鮮烈な映像に影響を受けた映画人は数知れず、「ジガ・ヴェルトフ集団」を結成したヌーヴェルヴァーグの旗手ジャン＝リュック・ゴダールもその一人。一般的に24コマ映写の速度（約68分）で上映されることが多いが、今回は16コマ映写の速度（約100分）で上映。※14:00～と17:00～2回公演。（予約制） \n \n監督：ジガ・ヴェルトフ 撮影：ミハイル・カウフマン \n\n\nピアノ　鳥飼りょう（楽士） ▼プロフィール （無声映画振興会 HP より） ▼出演予定\n\n日時■　5/24（日） ①14:00～　②17:00～　上映後に解説トークあり 料金■　一般 2\,500 円（当日受付時に現金でお支払いください） お問合せ・ご予約■ 　下記申込フォーム、各SNSのDM、店頭、にて予約承ります。※TEL（073-488-4775）での受付は当店営業時間内に限ります。 \n\n\n  \n\n\n\n お名前 (必須)\n \n \n メールアドレス (必須)\n \n \n 電話番号 (必須)\n\n \n 希望予約回 (必須)\n—以下から選択してください—14:0017:00\n \n 予約人数\n名 \n \n メッセージ本文
URL:https://www.books-plug.com/event/260524/
LOCATION:本町文化堂\, 本町3-6\, 和歌山市\, 和歌山県\, 6408033\, Japan
CATEGORIES:映画上映,無声映画
ATTACH;FMTTYPE=image/png:https://www.books-plug.com/wp-content/uploads/2026/03/260524.png
END:VEVENT
END:VCALENDAR